BEGIN:VCALENDAR
VERSION:2.0
PRODID:-//Squarespace Inc/Squarespace 6//v6//EN
BEGIN:VEVENT
UID:5a5d6dcc71c10bc094323809@squarespace.com
DTSTAMP:20190506T041837Z
DTSTART:20180921T110000Z
DTEND:20181104T070000Z
SUMMARY:Instrumental: the distinct pleasures of tools
GEO:-31.902125;116.165992
LOCATION:Mundaring Arts Centre | Gallery 1 & 2\, 7190 Great Eastern Highway
 \, Mundaring\, WA\, 6073\, Australia
END:VEVENT
END:VCALENDAR
