BEGIN:VCALENDAR
VERSION:2.0
PRODID:-//Squarespace Inc/Squarespace 6//v6//EN
BEGIN:VEVENT
UID:5b21cce2352f532eb0d1ac64@squarespace.com
DTSTAMP:20190506T042925Z
DTSTART:20180707T020000Z
DTEND:20180803T090000Z
SUMMARY:HyperVision
GEO:-31.890264;116.006329
LOCATION:Midland Junction Arts Centre - East & West Gallery \, 276 Great Ea
 stern Highway\, Midland\, WA\, 6056\, Australia
END:VEVENT
END:VCALENDAR
