BEGIN:VCALENDAR
VERSION:2.0
PRODID:-//Squarespace Inc/Squarespace 6//v6//EN
BEGIN:VEVENT
UID:5c46d75f4ae23787ae4e7248@squarespace.com
DTSTAMP:20191218T060052Z
DTSTART:20190719T110000Z
DTEND:20190908T070000Z
SUMMARY:Hold On!
GEO:-31.943426;116.202115
LOCATION:Mundaring Arts Centre | Gallery 1\, 7190 Great Eastern Highway\, M
 undaring\, WA\, 6073\, Australia
END:VEVENT
END:VCALENDAR
