BEGIN:VCALENDAR
VERSION:2.0
PRODID:-//Squarespace Inc/Squarespace 6//v6//EN
BEGIN:VEVENT
UID:6023974638c26f75b327b4f1@squarespace.com
DTSTAMP:20210210T082744Z
DTSTART:20210605T030000Z
DTEND:20210801T070000Z
SUMMARY:Food for Thought
GEO:-31.902125;116.165992
LOCATION:Mundaring Arts Centre | Gallery 2\, 7190 Great Eastern Highway\, M
 undaring\, WA\, 6073\, Australia
END:VEVENT
END:VCALENDAR
