BEGIN:VCALENDAR
VERSION:2.0
PRODID:-//Squarespace Inc/Squarespace 6//v6//EN
BEGIN:VEVENT
UID:5f506855cce4034ba6c2866d@squarespace.com
DTSTAMP:20201106T031844Z
DTSTART:20200911T010000Z
DTEND:20201210T110000Z
SUMMARY:Explore and Expose
GEO:-31.918678;116.048333
LOCATION:Boya Community Centre\, Clayton Rd & Scott Street\, Boya WA 6056\, 
 Australia
END:VEVENT
END:VCALENDAR
