BEGIN:VCALENDAR
VERSION:2.0
PRODID:-//Squarespace Inc/Squarespace 6//v6//EN
BEGIN:VEVENT
UID:5a5d6bed9140b7de43a6c9f0@squarespace.com
DTSTAMP:20190506T041640Z
DTSTART:20180803T110000Z
DTEND:20180916T070000Z
SUMMARY:Don't Jettison Everything
GEO:-31.902125;116.165992
LOCATION:Mundaring Arts Centre | Gallery 1\, 7190 Great Eastern Highway\, M
 undaring\, WA\, 6073\, Australia
END:VEVENT
END:VCALENDAR
