BEGIN:VCALENDAR
VERSION:2.0
PRODID:-//Squarespace Inc/Squarespace 6//v6//EN
BEGIN:VEVENT
UID:5c46d448c2241ba6b9558c45@squarespace.com
DTSTAMP:20191016T020634Z
DTSTART:20190524T110000Z
DTEND:20190707T070000Z
SUMMARY:Continuity and Change\; Future
GEO:-31.943426;116.202115
LOCATION:Mundaring Arts Centre | Gallery 1\, 7190 Great Eastern Highway\, M
 undaring\, WA\, 6073\, Australia
END:VEVENT
END:VCALENDAR
