BEGIN:VCALENDAR
VERSION:2.0
PRODID:-//Squarespace Inc/Squarespace 6//v6//EN
BEGIN:VEVENT
UID:5b21d795352f532eb0d343af@squarespace.com
DTSTAMP:20190506T044517Z
DTSTART:20180811T020000Z
DTEND:20180928T090000Z
SUMMARY:Antipodean Encounters: Western Australian Artists and Taiwanese Cul
 ture
GEO:-31.943426;116.202115
LOCATION:Midland Junction Arts Centre - East & West Gallery \, 276 Great Ea
 stern Highway\, Midland\, WA\, 6056\, Australia
END:VEVENT
END:VCALENDAR
