BEGIN:VCALENDAR
VERSION:2.0
PRODID:-//Squarespace Inc/Squarespace 6//v6//EN
BEGIN:VEVENT
UID:5c46d2a10e2e72c267e4a6a2@squarespace.com
DTSTAMP:20191016T020649Z
DTSTART:20190405T110000Z
DTEND:20190519T070000Z
SUMMARY:Altered States
GEO:-31.905739;116.171903
LOCATION:Mundaring Arts Centre | Gallery 2\, 7190 Great Eastern Highway\, M
 undaring\, WA\, 6073\, Australia
END:VEVENT
END:VCALENDAR
